{
 "currentVersion": 10.31,
 "serviceDescription": "Serviço de visualização (WMS) do ortofoto da ilha de São Miguel - Região Autónoma dos Açores. Ortofotomapas de 2005 resultantes dos voos aerofotogramétricos de 2004 e 2005 executado pela DSCIG, com pixel de 0,4m.",
 "mapName": "Layers",
 "description": "",
 "copyrightText": "Governo dos Açores (2004/2005)",
 "supportsDynamicLayers": false,
 "layers": [
  {
   "id": 0,
   "name": "SMG_qua",
   "parentLayerId": -1,
   "defaultVisibility": true,
   "subLayerIds": null,
   "minScale": 0,
   "maxScale": 0
  },
  {
   "id": 1,
   "name": "SMG",
   "parentLayerId": -1,
   "defaultVisibility": true,
   "subLayerIds": null,
   "minScale": 0,
   "maxScale": 0
  },
  {
   "id": 2,
   "name": "SMG_in",
   "parentLayerId": -1,
   "defaultVisibility": true,
   "subLayerIds": null,
   "minScale": 0,
   "maxScale": 0
  }
 ],
 "tables": [],
 "spatialReference": {
  "wkid": 102332,
  "latestWkid": 5015
 },
 "singleFusedMapCache": true,
 "tileInfo": {
  "rows": 256,
  "cols": 256,
  "dpi": 96,
  "format": "JPEG",
  "compressionQuality": 75,
  "origin": {
   "x": -5120900,
   "y": 9998100
  },
  "spatialReference": {
   "wkid": 102332,
   "latestWkid": 5015
  },
  "lods": [
   {
    "level": 0,
    "resolution": 66.1459656252646,
    "scale": 250000
   },
   {
    "level": 1,
    "resolution": 26.458386250105836,
    "scale": 100000
   },
   {
    "level": 2,
    "resolution": 13.229193125052918,
    "scale": 50000
   },
   {
    "level": 3,
    "resolution": 6.614596562526459,
    "scale": 25000
   },
   {
    "level": 4,
    "resolution": 3.1750063500127004,
    "scale": 12000
   },
   {
    "level": 5,
    "resolution": 2.6458386250105836,
    "scale": 10000
   },
   {
    "level": 6,
    "resolution": 1.3229193125052918,
    "scale": 5000
   },
   {
    "level": 7,
    "resolution": 0.5291677250021167,
    "scale": 2000
   },
   {
    "level": 8,
    "resolution": 0.26458386250105836,
    "scale": 1000
   }
  ]
 },
 "initialExtent": {
  "xmin": 582939.7734000003,
  "ymin": 4177508.9557626685,
  "xmax": 681939.7734000003,
  "ymax": 4213588.656035149,
  "spatialReference": {
   "wkid": 102332,
   "latestWkid": 5015
  }
 },
 "fullExtent": {
  "xmin": 587439.7734000003,
  "ymin": 4165298.1247000005,
  "xmax": 677439.7734000003,
  "ymax": 4205298.1247000005,
  "spatialReference": {
   "wkid": 102332,
   "latestWkid": 5015
  }
 },
 "minScale": 250000,
 "maxScale": 1000,
 "units": "esriMeters",
 "supportedImageFormatTypes": "PNG32,PNG24,PNG,JPG,DIB,TIFF,EMF,PS,PDF,GIF,SVG,SVGZ,BMP",
 "documentInfo": {
  "Title": "Serviço de Visualização (WMS) do Ortofoto da ilha de São Miguel - Região Autónoma dos Açores (RAA)",
  "Author": "SRAAC (2021)",
  "Comments": "Serviço de visualização (WMS) do ortofoto da ilha de São Miguel - Região Autónoma dos Açores. Ortofotomapas de 2005 resultantes dos voos aerofotogramétricos de 2004 e 2005 executado pela DSCIG, com pixel de 0,4m.",
  "Subject": "Serviço de Visualização (WMS) do Ortofoto da ilha de São Miguel - Região Autónoma dos Açores (RAA)",
  "Category": "",
  "AntialiasingMode": "None",
  "TextAntialiasingMode": "Force",
  "Keywords": "Ortofotomapa; São Miguel; Açores"
 },
 "capabilities": "Map,Query,Data",
 "supportedQueryFormats": "JSON, AMF",
 "exportTilesAllowed": false,
 "maxRecordCount": 1000,
 "maxImageHeight": 4096,
 "maxImageWidth": 4096,
 "supportedExtensions": "WMSServer"
}
