{
 "currentVersion": 10.31,
 "serviceDescription": "Relevo da ilha Graciosa, com escala equivalente à 1:1.000. Ficheiro produzido com recurso ao Modelo Digital de Terreno da ilha Graciosa, datado dos anos de 2015 a 2017, com pixel de 50 cm.",
 "mapName": "Layers",
 "description": "",
 "copyrightText": "Governo dos Açores (2017)",
 "supportsDynamicLayers": false,
 "layers": [
  {
   "id": 0,
   "name": "Relevo_gra",
   "parentLayerId": -1,
   "defaultVisibility": true,
   "subLayerIds": null,
   "minScale": 0,
   "maxScale": 0
  }
 ],
 "tables": [],
 "spatialReference": {
  "wkid": 102332,
  "latestWkid": 5015
 },
 "singleFusedMapCache": true,
 "tileInfo": {
  "rows": 256,
  "cols": 256,
  "dpi": 96,
  "format": "MIXED",
  "compressionQuality": 75,
  "origin": {
   "x": -5120900,
   "y": 9998100
  },
  "spatialReference": {
   "wkid": 102332,
   "latestWkid": 5015
  },
  "lods": [
   {
    "level": 0,
    "resolution": 26.458386250105836,
    "scale": 100000
   },
   {
    "level": 1,
    "resolution": 13.229193125052918,
    "scale": 50000
   },
   {
    "level": 2,
    "resolution": 6.614596562526459,
    "scale": 25000
   },
   {
    "level": 3,
    "resolution": 3.1750063500127004,
    "scale": 12000
   },
   {
    "level": 4,
    "resolution": 2.6458386250105836,
    "scale": 10000
   },
   {
    "level": 5,
    "resolution": 1.3229193125052918,
    "scale": 5000
   },
   {
    "level": 6,
    "resolution": 0.5291677250021167,
    "scale": 2000
   },
   {
    "level": 7,
    "resolution": 0.26458386250105836,
    "scale": 1000
   },
   {
    "level": 8,
    "resolution": 0.13229193125052918,
    "scale": 500
   }
  ]
 },
 "initialExtent": {
  "xmin": 394342.6061764628,
  "ymin": 4317970.486835331,
  "xmax": 431701.8475616122,
  "ymax": 4339507.881311674,
  "spatialReference": {
   "wkid": 102332,
   "latestWkid": 5015
  }
 },
 "fullExtent": {
  "xmin": 407183.2268690375,
  "ymin": 4317894.035197573,
  "xmax": 418861.2268690375,
  "ymax": 4328077.535197573,
  "spatialReference": {
   "wkid": 102332,
   "latestWkid": 5015
  }
 },
 "minScale": 100000,
 "maxScale": 500,
 "units": "esriMeters",
 "supportedImageFormatTypes": "PNG32,PNG24,PNG,JPG,DIB,TIFF,EMF,PS,PDF,GIF,SVG,SVGZ,BMP",
 "documentInfo": {
  "Title": "Relevo da ilha Graciosa (Açores)",
  "Author": "SRAAC (2021)",
  "Comments": "Relevo da ilha Graciosa, com escala equivalente à 1:1.000. Ficheiro produzido com recurso ao Modelo Digital de Terreno da ilha Graciosa, datado dos anos de 2015 a 2017, com pixel de 50 cm.",
  "Subject": "Relevo da ilha Graciosa (Açores)",
  "Category": "",
  "AntialiasingMode": "None",
  "TextAntialiasingMode": "Force",
  "Keywords": "Relevo; MDT; Graciosa; Açores"
 },
 "capabilities": "Map,Query,Data",
 "supportedQueryFormats": "JSON, AMF",
 "exportTilesAllowed": false,
 "maxRecordCount": 1000,
 "maxImageHeight": 4096,
 "maxImageWidth": 4096,
 "supportedExtensions": "WMSServer"
}
