{
 "currentVersion": 10.31,
 "serviceDescription": "Relevo da ilha das Flores, com escala equivalente à 1:1.000. Ficheiro produzido com recurso ao Modelo Digital de Terreno da ilha das Flores, datado dos anos de 2015 e 2016, com pixel de 50 cm.",
 "mapName": "Layers",
 "description": "",
 "copyrightText": "Governo dos Açores (2016) - Includes copyrighted material of DigitalGlobe, Inc., All Rights Reserved",
 "supportsDynamicLayers": false,
 "layers": [
  {
   "id": 0,
   "name": "Relevo_flo",
   "parentLayerId": -1,
   "defaultVisibility": true,
   "subLayerIds": null,
   "minScale": 0,
   "maxScale": 0
  }
 ],
 "tables": [],
 "spatialReference": {
  "wkid": 102331,
  "latestWkid": 5014
 },
 "singleFusedMapCache": true,
 "tileInfo": {
  "rows": 256,
  "cols": 256,
  "dpi": 96,
  "format": "MIXED",
  "compressionQuality": 75,
  "origin": {
   "x": -5120900,
   "y": 9998100
  },
  "spatialReference": {
   "wkid": 102331,
   "latestWkid": 5014
  },
  "lods": [
   {
    "level": 0,
    "resolution": 26.458386250105836,
    "scale": 100000
   },
   {
    "level": 1,
    "resolution": 13.229193125052918,
    "scale": 50000
   },
   {
    "level": 2,
    "resolution": 6.614596562526459,
    "scale": 25000
   },
   {
    "level": 3,
    "resolution": 3.1750063500127004,
    "scale": 12000
   },
   {
    "level": 4,
    "resolution": 2.6458386250105836,
    "scale": 10000
   },
   {
    "level": 5,
    "resolution": 1.3229193125052918,
    "scale": 5000
   },
   {
    "level": 6,
    "resolution": 0.5291677250021167,
    "scale": 2000
   },
   {
    "level": 7,
    "resolution": 0.26458386250105836,
    "scale": 1000
   },
   {
    "level": 8,
    "resolution": 0.13229193125052918,
    "scale": 500
   }
  ]
 },
 "initialExtent": {
  "xmin": 636487.5741431493,
  "ymin": 4363227.386753174,
  "xmax": 673846.8155282988,
  "ymax": 4384764.7812295165,
  "spatialReference": {
   "wkid": 102331,
   "latestWkid": 5014
  }
 },
 "fullExtent": {
  "xmin": 648953.4448357242,
  "ymin": 4359484.435115416,
  "xmax": 661380.9448357242,
  "ymax": 4377000.935115416,
  "spatialReference": {
   "wkid": 102331,
   "latestWkid": 5014
  }
 },
 "minScale": 100000,
 "maxScale": 500,
 "units": "esriMeters",
 "supportedImageFormatTypes": "PNG32,PNG24,PNG,JPG,DIB,TIFF,EMF,PS,PDF,GIF,SVG,SVGZ,BMP",
 "documentInfo": {
  "Title": "Relevo da ilha das Flores (Açores)",
  "Author": "SRAAC (2021)",
  "Comments": "Relevo da ilha das Flores, com escala equivalente à 1:1.000. Ficheiro produzido com recurso ao Modelo Digital de Terreno da ilha das Flores, datado dos anos de 2015 e 2016, com pixel de 50 cm.",
  "Subject": "Relevo da ilha das Flores (Açores)",
  "Category": "",
  "AntialiasingMode": "None",
  "TextAntialiasingMode": "Force",
  "Keywords": "Relevo; MDT; Flores; Açores"
 },
 "capabilities": "Map,Query,Data",
 "supportedQueryFormats": "JSON, AMF",
 "exportTilesAllowed": false,
 "maxRecordCount": 1000,
 "maxImageHeight": 4096,
 "maxImageWidth": 4096,
 "supportedExtensions": "WMSServer"
}
