{
 "currentVersion": 10.31,
 "serviceDescription": "Ortoimagem da Ilha do Corvo, obtida a partir da ortoretificação de imagens de satélite de muito alta resolução (píxel de 30 cm). Estas imagens foram obtidas através do satélite WORLDVIEW e respeitam aos anos de 2017/2018.",
 "mapName": "Layers",
 "description": "",
 "copyrightText": "Governo dos Açores (2017/2018) - Includes copyrighted material of DigitalGlobe, Inc., All Rights Reserved",
 "supportsDynamicLayers": false,
 "layers": [
  {
   "id": 0,
   "name": "orto_cor.tif",
   "parentLayerId": -1,
   "defaultVisibility": true,
   "subLayerIds": null,
   "minScale": 0,
   "maxScale": 0
  },
  {
   "id": 1,
   "name": "Ilha_cor",
   "parentLayerId": -1,
   "defaultVisibility": true,
   "subLayerIds": null,
   "minScale": 0,
   "maxScale": 0
  }
 ],
 "tables": [],
 "spatialReference": {
  "wkid": 102331,
  "latestWkid": 5014
 },
 "singleFusedMapCache": true,
 "tileInfo": {
  "rows": 256,
  "cols": 256,
  "dpi": 96,
  "format": "PNG",
  "compressionQuality": 75,
  "origin": {
   "x": -5120900,
   "y": 9998100
  },
  "spatialReference": {
   "wkid": 102331,
   "latestWkid": 5014
  },
  "lods": [
   {
    "level": 0,
    "resolution": 66.1459656252646,
    "scale": 250000
   },
   {
    "level": 1,
    "resolution": 26.458386250105836,
    "scale": 100000
   },
   {
    "level": 2,
    "resolution": 13.229193125052918,
    "scale": 50000
   },
   {
    "level": 3,
    "resolution": 6.614596562526459,
    "scale": 25000
   },
   {
    "level": 4,
    "resolution": 3.1750063500127004,
    "scale": 12000
   },
   {
    "level": 5,
    "resolution": 2.6458386250105836,
    "scale": 10000
   },
   {
    "level": 6,
    "resolution": 1.3229193125052918,
    "scale": 5000
   },
   {
    "level": 7,
    "resolution": 0.5291677250021167,
    "scale": 2000
   },
   {
    "level": 8,
    "resolution": 0.26458386250105836,
    "scale": 1000
   },
   {
    "level": 9,
    "resolution": 0.13229193125052918,
    "scale": 500
   }
  ]
 },
 "initialExtent": {
  "xmin": 655224.0688258111,
  "ymin": 4395024.848565341,
  "xmax": 670775.7311741891,
  "ymax": 4400379.669526133,
  "spatialReference": {
   "wkid": 102331,
   "latestWkid": 5014
  }
 },
 "fullExtent": {
  "xmin": 659000,
  "ymin": 4392406.60737733,
  "xmax": 666999.8000000005,
  "ymax": 4399999.9999,
  "spatialReference": {
   "wkid": 102331,
   "latestWkid": 5014
  }
 },
 "minScale": 250000,
 "maxScale": 500,
 "units": "esriMeters",
 "supportedImageFormatTypes": "PNG32,PNG24,PNG,JPG,DIB,TIFF,EMF,PS,PDF,GIF,SVG,SVGZ,BMP",
 "documentInfo": {
  "Title": "",
  "Author": "",
  "Comments": "",
  "Subject": "",
  "Category": "",
  "AntialiasingMode": "None",
  "TextAntialiasingMode": "Force",
  "Keywords": "Ortoimagem; Corvo; Açores"
 },
 "capabilities": "Map,Query,Data",
 "supportedQueryFormats": "JSON, AMF",
 "exportTilesAllowed": false,
 "maxRecordCount": 1000,
 "maxImageHeight": 4096,
 "maxImageWidth": 4096,
 "supportedExtensions": "WMSServer"
}
