{
 "currentVersion": 10.31,
 "serviceDescription": "Serviço de visualização (WMS) da ortoimagem da ilha das Flores - Região Autónoma dos Açores. Ortoimagem da Ilha das Flores de 2004 obtida através do satélite QUICKBIRD com pixel de 60 cm.",
 "mapName": "Layers",
 "description": "",
 "copyrightText": "Governo dos Açores (2004)",
 "supportsDynamicLayers": false,
 "layers": [
  {
   "id": 0,
   "name": "FLO_qua",
   "parentLayerId": -1,
   "defaultVisibility": true,
   "subLayerIds": null,
   "minScale": 0,
   "maxScale": 0
  },
  {
   "id": 1,
   "name": "FLO",
   "parentLayerId": -1,
   "defaultVisibility": true,
   "subLayerIds": null,
   "minScale": 0,
   "maxScale": 0
  },
  {
   "id": 2,
   "name": "FLO_in",
   "parentLayerId": -1,
   "defaultVisibility": true,
   "subLayerIds": null,
   "minScale": 0,
   "maxScale": 0
  }
 ],
 "tables": [],
 "spatialReference": {
  "wkid": 102331,
  "latestWkid": 5014
 },
 "singleFusedMapCache": true,
 "tileInfo": {
  "rows": 256,
  "cols": 256,
  "dpi": 96,
  "format": "JPEG",
  "compressionQuality": 75,
  "origin": {
   "x": -5120900,
   "y": 9998100
  },
  "spatialReference": {
   "wkid": 102331,
   "latestWkid": 5014
  },
  "lods": [
   {
    "level": 0,
    "resolution": 66.1459656252646,
    "scale": 250000
   },
   {
    "level": 1,
    "resolution": 26.458386250105836,
    "scale": 100000
   },
   {
    "level": 2,
    "resolution": 13.229193125052918,
    "scale": 50000
   },
   {
    "level": 3,
    "resolution": 6.614596562526459,
    "scale": 25000
   },
   {
    "level": 4,
    "resolution": 3.1750063500127004,
    "scale": 12000
   },
   {
    "level": 5,
    "resolution": 2.6458386250105836,
    "scale": 10000
   },
   {
    "level": 6,
    "resolution": 1.3229193125052918,
    "scale": 5000
   },
   {
    "level": 7,
    "resolution": 0.5291677250021167,
    "scale": 2000
   },
   {
    "level": 8,
    "resolution": 0.26458386250105836,
    "scale": 1000
   }
  ]
 },
 "initialExtent": {
  "xmin": 628903.5943836465,
  "ymin": 4359081.143886216,
  "xmax": 683090.3694238632,
  "ymax": 4389190.787438836,
  "spatialReference": {
   "wkid": 102331,
   "latestWkid": 5014
  }
 },
 "fullExtent": {
  "xmin": 644753.5354000004,
  "ymin": 4355021.4946,
  "xmax": 664753.3400999997,
  "ymax": 4380021.2436,
  "spatialReference": {
   "wkid": 102331,
   "latestWkid": 5014
  }
 },
 "minScale": 250000,
 "maxScale": 1000,
 "units": "esriMeters",
 "supportedImageFormatTypes": "PNG32,PNG24,PNG,JPG,DIB,TIFF,EMF,PS,PDF,GIF,SVG,SVGZ,BMP",
 "documentInfo": {
  "Title": "Serviço de Visualização (WMS) da Ortoimagem da ilha das Flores - Região Autónoma dos Açores (RAA)",
  "Author": "SRAAC (2021)",
  "Comments": "Serviço de visualização (WMS) da ortoimagem da ilha das Flores - Região Autónoma dos Açores. Ortoimagem da Ilha das Flores de 2004 obtida através do satélite QUICKBIRD com pixel de 60 cm.",
  "Subject": "Serviço de Visualização (WMS) da Ortoimagem da ilha das Flores - Região Autónoma dos Açores (RAA)",
  "Category": "",
  "AntialiasingMode": "None",
  "TextAntialiasingMode": "Force",
  "Keywords": "Ortofotomapa; Flores; Açores"
 },
 "capabilities": "Map,Query,Data",
 "supportedQueryFormats": "JSON, AMF",
 "exportTilesAllowed": false,
 "maxRecordCount": 1000,
 "maxImageHeight": 4096,
 "maxImageWidth": 4096,
 "supportedExtensions": "WMSServer"
}
